BEGIN:VCALENDAR
VERSION:2.0
PRODID:http://www.infomax-online.de/imxeventmanager/
METHOD:PUBLISH
BEGIN:VTIMEZONE
TZID:Europe/Berlin
TZURL:http://tzurl.org/zoneinfo-outlook/Europe/Berlin
X-LIC-LOCATION:Europe/Berlin
END:VTIMEZONE
BEGIN:VEVENT
UID:69ed7bac20c9e
LOCATION:Marktmülleranger 1, 83308 Trostberg
SUMMARY;ENCODING=QUOTED-PRINTABLE:Nacht der Musik
DESCRIPTION;ENCODING=QUOTED-PRINTABLE:Endlich werden die Nächte wieder länger! Jetzt ist genau die=0D=0Arichtige Jahreszeit für die legendäre Nacht der Musik in Trostberg,=0D=0Abei der man von Kneipe zu Kneipe durch Trostberg streifen und in jeder=0D=0ALocation ein anderes Konzert erleben kann. Und wie immer gilt: einmal=0D=0Abezahlen, überall rein. Auch das Jagas-Ticket, das Sie im Vorverkauf=0D=0Aüber Reservix erwerben, gilt als Ticket für alle Kneipen-Konzerte an=0D=0Adiesem Abend.
URL;VALUE=URI:https://irs18whl.infomax.online/standard/e-nacht-der-musik?eventDateId=2061880&widgetToken=5oeXeoKIovU.&
CLASS:PUBLIC
DTSTART:20260509T201500
DTSTAMP:20260426T044252
END:VEVENT
END:VCALENDAR