BEGIN:VCALENDAR
VERSION:2.0
PRODID:http://www.infomax-online.de/imxeventmanager/
METHOD:PUBLISH
BEGIN:VTIMEZONE
TZID:Europe/Berlin
TZURL:http://tzurl.org/zoneinfo-outlook/Europe/Berlin
X-LIC-LOCATION:Europe/Berlin
END:VTIMEZONE
BEGIN:VEVENT
UID:69ea834beeef6
LOCATION:Schwimmbadstrasse 12, 83334 Inzell
SUMMARY;ENCODING=QUOTED-PRINTABLE:Aquatraining mit Christine
DESCRIPTION;ENCODING=QUOTED-PRINTABLE:Heiße Rhythmen - coole Moves
URL;VALUE=URI:https://irs18whl.infomax.online/standard/e-aquatraining-mit-christine?eventDateId=2057629&widgetToken=5oeXeoKIovU.&
CLASS:PUBLIC
DTSTART:20260423T193000
DTSTAMP:20260423T223835
END:VEVENT
END:VCALENDAR