BEGIN:VCALENDAR
VERSION:2.0
PRODID:http://www.infomax-online.de/imxeventmanager/
METHOD:PUBLISH
BEGIN:VTIMEZONE
TZID:Europe/Berlin
TZURL:http://tzurl.org/zoneinfo-outlook/Europe/Berlin
X-LIC-LOCATION:Europe/Berlin
END:VTIMEZONE
BEGIN:VEVENT
UID:69ed927199f65
LOCATION:Traunerstraße 1, 83278 Traunstein
SUMMARY;ENCODING=QUOTED-PRINTABLE:Griechische Tänze für Anfänger
DESCRIPTION;ENCODING=QUOTED-PRINTABLE:Wir tanzen einfache griechische Tänze und fangen dabei ganz langsam=0D=0Aan. Jeder kann mitmachen, Gemeinschaft erfahren und die eigene innere=0D=0AMitte stärken. Anmeldung unter 0177/3984140
URL;VALUE=URI:https://irs18whl.infomax.online/standard/e-griechische-taenze-fuer-anfaenger?eventDateId=2053101&widgetToken=5oeXeoKIovU.&
CLASS:PUBLIC
DTSTART:20260425T140000
DTSTAMP:20260426T062001
END:VEVENT
END:VCALENDAR