BEGIN:VCALENDAR
VERSION:2.0
PRODID:http://www.infomax-online.de/imxeventmanager/
METHOD:PUBLISH
BEGIN:VTIMEZONE
TZID:Europe/Berlin
TZURL:http://tzurl.org/zoneinfo-outlook/Europe/Berlin
X-LIC-LOCATION:Europe/Berlin
END:VTIMEZONE
BEGIN:VEVENT
UID:69ea61b0194f9
LOCATION:Bahnhofstraße 8, 83324 Ruhpolding
SUMMARY;ENCODING=QUOTED-PRINTABLE:Frühlingswanderung ins Röthelmoos
DESCRIPTION;ENCODING=QUOTED-PRINTABLE:Gemütlichkeit - Naturschönheit - Geselligkeit
URL;VALUE=URI:https://irs18whl.infomax.online/standard/e-fruehlingswanderung-ins-roethelmoos?eventDateId=2052783&widgetToken=5oeXeoKIovU.&
CLASS:PUBLIC
DTSTART:20260423T100000
DTSTAMP:20260423T201512
END:VEVENT
END:VCALENDAR