BEGIN:VCALENDAR
VERSION:2.0
PRODID:http://www.infomax-online.de/imxeventmanager/
METHOD:PUBLISH
BEGIN:VTIMEZONE
TZID:Europe/Berlin
TZURL:http://tzurl.org/zoneinfo-outlook/Europe/Berlin
X-LIC-LOCATION:Europe/Berlin
END:VTIMEZONE
BEGIN:VEVENT
UID:69ed9235cda23
LOCATION:Tiroler Straße 37, 83242 Reit im Winkl
SUMMARY;ENCODING=QUOTED-PRINTABLE:Konzert im Winkl
DESCRIPTION;ENCODING=QUOTED-PRINTABLE:Musikschüler der Musikschule Grassau, vorwiegend aus der Zweigstelle=0D=0AReit im Winkl gestalten diesen Abend. Sie geben ihre schönsten und=0D=0Aaktuellsten Stücke zu Gehör. Die musizierenden Kinder und=0D=0AJugendlichen freuen sich auf viele Zuhörer und reichlich Beifall.=0D=0AEintritt frei.
URL;VALUE=URI:https://irs18whl.infomax.online/standard/e-konzert-im-winkl?eventDateId=2051708&widgetToken=5oeXeoKIovU.&
CLASS:PUBLIC
DTSTART:20260426T173000
DTSTAMP:20260426T061901
END:VEVENT
END:VCALENDAR