BEGIN:VCALENDAR
VERSION:2.0
PRODID:http://www.infomax-online.de/imxeventmanager/
METHOD:PUBLISH
BEGIN:VTIMEZONE
TZID:Europe/Berlin
TZURL:http://tzurl.org/zoneinfo-outlook/Europe/Berlin
X-LIC-LOCATION:Europe/Berlin
END:VTIMEZONE
BEGIN:VEVENT
UID:69ed7bde69671
LOCATION:Ludwigstraße 12, 83278 Traunstein
SUMMARY;ENCODING=QUOTED-PRINTABLE:Abschlussrundgang Ausstellung TRAUMHAFT! Surreale Wirklichkeiten in=0D=0Ader Kunst
DESCRIPTION;ENCODING=QUOTED-PRINTABLE:Geführter Ausstellungsrundgang mit beteiligten Künstlern und=0D=0AGalerieleiterin Judith Bader. Der Eintritt ist frei.
URL;VALUE=URI:https://irs18whl.infomax.online/standard/e-abschlussrundgang-ausstellung-traumhaft-surreale-wirklichkeiten-in-der-kunst?eventDateId=2044601&widgetToken=5oeXeoKIovU.&
CLASS:PUBLIC
DTSTART:20260426T160000
DTSTAMP:20260426T044342
END:VEVENT
END:VCALENDAR