BEGIN:VCALENDAR
VERSION:2.0
PRODID:http://www.infomax-online.de/imxeventmanager/
METHOD:PUBLISH
BEGIN:VTIMEZONE
TZID:Europe/Berlin
TZURL:http://tzurl.org/zoneinfo-outlook/Europe/Berlin
X-LIC-LOCATION:Europe/Berlin
END:VTIMEZONE
BEGIN:VEVENT
UID:69eae7dd2e199
LOCATION:Martinistraße 7, 83370 Seeon
SUMMARY;ENCODING=QUOTED-PRINTABLE:Systemaufstellung im Patch.Work Seeon
DESCRIPTION;ENCODING=QUOTED-PRINTABLE:Klarheit finden. Ins Spüren kommen. Neu ausrichten.=0D=0ASystemaufstellungen für persönliche Themen.
URL;VALUE=URI:https://irs18whl.infomax.online/standard/e-aufstellungs-sonntag-im-patchwork-seeon-04-2026?eventDateId=2040881&widgetToken=5oeXeoKIovU.&
CLASS:PUBLIC
DTSTART:20260425T100000
DTSTAMP:20260424T054741
END:VEVENT
END:VCALENDAR