BEGIN:VCALENDAR
VERSION:2.0
PRODID:http://www.infomax-online.de/imxeventmanager/
METHOD:PUBLISH
BEGIN:VTIMEZONE
TZID:Europe/Berlin
TZURL:http://tzurl.org/zoneinfo-outlook/Europe/Berlin
X-LIC-LOCATION:Europe/Berlin
END:VTIMEZONE
BEGIN:VEVENT
UID:69e5d434f33f7
LOCATION:Haywards-Heath-Weg 1, 83278 Traunstein
SUMMARY;ENCODING=QUOTED-PRINTABLE:Literaten in Traunstein - literarischer Spaziergang
DESCRIPTION;ENCODING=QUOTED-PRINTABLE:Anmeldung in der Stadtbücherei Traunstein, Tel. 0861-164480, Kosten:=0D=0A5,00 Euro
URL;VALUE=URI:https://irs18whl.infomax.online/standard/e-literaten-in-traunstein-literarischer-spaziergang?eventDateId=2040041&widgetToken=5oeXeoKIovU.&
CLASS:PUBLIC
DTSTART:20260613T150000
DTSTAMP:20260420T092228
END:VEVENT
END:VCALENDAR