BEGIN:VCALENDAR
VERSION:2.0
PRODID:http://www.infomax-online.de/imxeventmanager/
METHOD:PUBLISH
BEGIN:VTIMEZONE
TZID:Europe/Berlin
TZURL:http://tzurl.org/zoneinfo-outlook/Europe/Berlin
X-LIC-LOCATION:Europe/Berlin
END:VTIMEZONE
BEGIN:VEVENT
UID:69ed7b5a5c1d5
LOCATION:Hinterm Bichl 2, 83224 Grassau
SUMMARY;ENCODING=QUOTED-PRINTABLE:Abschlusskonzert Streicherakademie
DESCRIPTION;ENCODING=QUOTED-PRINTABLE:Die Kursteilnehmer*innen präsentieren, was sie im Kurs gelernt haben.=0D=0APuchheimer Jugendkammerorchester - PJKO
URL;VALUE=URI:https://irs18whl.infomax.online/standard/e-abschlusskonzert-streicherakademie?eventDateId=2037655&widgetToken=5oeXeoKIovU.&
CLASS:PUBLIC
DTSTART:20260503T110000
DTSTAMP:20260426T044130
END:VEVENT
END:VCALENDAR