BEGIN:VCALENDAR
VERSION:2.0
PRODID:http://www.infomax-online.de/imxeventmanager/
METHOD:PUBLISH
BEGIN:VTIMEZONE
TZID:Europe/Berlin
TZURL:http://tzurl.org/zoneinfo-outlook/Europe/Berlin
X-LIC-LOCATION:Europe/Berlin
END:VTIMEZONE
BEGIN:VEVENT
UID:69ed4c0c1d7c3
LOCATION: , 83355 Grabenstätt
SUMMARY;ENCODING=QUOTED-PRINTABLE:Vogelbeobachtungen am Naturbeobachtungsturm Hirschauer Bucht
DESCRIPTION;ENCODING=QUOTED-PRINTABLE:Die Vogelwelt der Sandbänke im Achendelta - geführte=0D=0AVogelbeobachtungen mit einem Chiemsee-Naturführer/Ornithologen.=0D=0ATreffpunkt: Naturbeobachtungsturm Hirschauer Bucht. Die Führung ist=0D=0Akostenlos, es laden herzlich ein: Verkehrsverein und=0D=0ATourist-Information Grabenstätt!
URL;VALUE=URI:https://irs18whl.infomax.online/standard/e-vogelbeobachtungen-am-naturbeobachtungsturm-hirschauer-bucht?eventDateId=2035364&widgetToken=5oeXeoKIovU.&
CLASS:PUBLIC
DTSTART:20260426T090000
DTSTAMP:20260426T011940
END:VEVENT
END:VCALENDAR