BEGIN:VCALENDAR
VERSION:2.0
PRODID:http://www.infomax-online.de/imxeventmanager/
METHOD:PUBLISH
BEGIN:VTIMEZONE
TZID:Europe/Berlin
TZURL:http://tzurl.org/zoneinfo-outlook/Europe/Berlin
X-LIC-LOCATION:Europe/Berlin
END:VTIMEZONE
BEGIN:VEVENT
UID:69ed7c1d6a4f2
LOCATION:Bahnhofstr. 32, 83236 Übersee
SUMMARY;ENCODING=QUOTED-PRINTABLE:ENDE
DESCRIPTION;ENCODING=QUOTED-PRINTABLE:Das Duo aus Wien und Linz erschafft eine eigenständige Klangwelt, in=0D=0Ader sich Post-Punk, Neue Neue Deutsche Welle, Pop, New Wave und Punk=0D=0Aauf organische Weise verbinden. Ihre Musik lebt von Kontrasten und=0D=0Aschafft es, zwischen Härte und Zerbrechlichkeit eine spannende=0D=0ABalance zu halten. Gitarren, Drum Machines und Synthesizer=0D=0Averschmelzen zu einem dichten, druckvollen Sound, der unmittelbar=0D=0Aberührt und gleichzeitig zum Tanzen einlädt.
URL;VALUE=URI:https://irs18whl.infomax.online/standard/e-ende-1?eventDateId=2029711&widgetToken=5oeXeoKIovU.&
CLASS:PUBLIC
DTSTART:20260502T210000
DTSTAMP:20260426T044445
END:VEVENT
END:VCALENDAR