BEGIN:VCALENDAR
VERSION:2.0
PRODID:http://www.infomax-online.de/imxeventmanager/
METHOD:PUBLISH
BEGIN:VTIMEZONE
TZID:Europe/Berlin
TZURL:http://tzurl.org/zoneinfo-outlook/Europe/Berlin
X-LIC-LOCATION:Europe/Berlin
END:VTIMEZONE
BEGIN:VEVENT
UID:69ed46493d400
LOCATION:Kirchberg 3, 83339 Chieming
SUMMARY;ENCODING=QUOTED-PRINTABLE:Öffentliche Probe im DERBY mit Mike Kraus & Band
DESCRIPTION;ENCODING=QUOTED-PRINTABLE:Wir freuen uns sehr, eine große Bandpremiere begrüßen zu dürfen=0D=0Aund eine wunderschöne Atmosphäre für Kreativität und Kunst=0D=0Aanbieten zu können! Der Münchner Künstler Mike Kraus, bekannt für=0D=0Aseine Bilder voller Harmonie und Verbundenheit, kehrt mit neuen Songs=0D=0Aauf die Bühne zurück. Seine künstlerische Haltung setzt er nun als=0D=0ASongwriter konsequent im Konzert fort: Gemeinsam mit einer=0D=0Asiebenköpfigen Band entsteht ein Live-Programm voller Full-grown Pop=0D=0A– reife, gefühlvolle Popmusik mit Tiefe. Musik, die Nähe schafft=0D=0Aund Augenblicke bewusst erlebbar macht – für alles, was zählt.=0D=0AEinlass: 18:00 Uhr, Beginn: 20:00 UhrReservieren unter Tel.: +49 8667=0D=0A79359
URL;VALUE=URI:https://irs18whl.infomax.online/standard/e-oeffentliche-probe-im-berby-von-mike-kraus-band?eventDateId=2029663&widgetToken=5oeXeoKIovU.&
CLASS:PUBLIC
DTSTART:20260425T180000
DTSTAMP:20260426T005505
END:VEVENT
END:VCALENDAR