BEGIN:VCALENDAR
VERSION:2.0
PRODID:http://www.infomax-online.de/imxeventmanager/
METHOD:PUBLISH
BEGIN:VTIMEZONE
TZID:Europe/Berlin
TZURL:http://tzurl.org/zoneinfo-outlook/Europe/Berlin
X-LIC-LOCATION:Europe/Berlin
END:VTIMEZONE
BEGIN:VEVENT
UID:69ed92a3967bf
LOCATION:Ludwigstraße 10+12, 83278 Traunstein
SUMMARY;ENCODING=QUOTED-PRINTABLE:Volksmusik-Hoagart "Live Aufgspuit Traunstein"
DESCRIPTION;ENCODING=QUOTED-PRINTABLE:Musik von dahoam - Volksmusik zum Mitmusizieren. Eintritt frei!
URL;VALUE=URI:https://irs18whl.infomax.online/standard/e-live-aufgspuit-traunstein?eventDateId=2029312&widgetToken=5oeXeoKIovU.&
CLASS:PUBLIC
DTSTART:20260427T180000
DTSTAMP:20260426T062051
END:VEVENT
END:VCALENDAR