BEGIN:VCALENDAR
VERSION:2.0
PRODID:http://www.infomax-online.de/imxeventmanager/
METHOD:PUBLISH
BEGIN:VTIMEZONE
TZID:Europe/Berlin
TZURL:http://tzurl.org/zoneinfo-outlook/Europe/Berlin
X-LIC-LOCATION:Europe/Berlin
END:VTIMEZONE
BEGIN:VEVENT
UID:69e751a6d855c
LOCATION:Crailsheimstraße 12, 83278 Traunstein
SUMMARY;ENCODING=QUOTED-PRINTABLE:Lanny Lanner „Eine musikalische Erinnerung“
DESCRIPTION;ENCODING=QUOTED-PRINTABLE:Nach langer Solo Abstinenz kommt Lanny Lanner zum ersten Mal seit 6=0D=0AJahren wieder als Solo Künstler nach Traunstein in die Kulturfabrik=0D=0ANUTS. Es wird ein Abend mit vielen Stories und Musik. Lanny wird euch=0D=0Amitnehmen auf einen „Trip down memory lane“, also eine Reise in=0D=0Adie Erinnerungen seines Lebens. Die Musik, die ihn geprägt und bewegt=0D=0Ahat, kombiniert mit eigenen Songs von damals bis heute. Warum Queen=0D=0Ader ausschlaggebende Grund war, dass Lanny heute Musiker ist.
URL;VALUE=URI:https://irs18whl.infomax.online/standard/e-lanny-lanner-eine-musikalische-erinnerung?eventDateId=2023887&widgetToken=5oeXeoKIovU.&
CLASS:PUBLIC
DTSTART:20270109T200000
DTSTAMP:20260421T122958
END:VEVENT
END:VCALENDAR