BEGIN:VCALENDAR
VERSION:2.0
PRODID:http://www.infomax-online.de/imxeventmanager/
METHOD:PUBLISH
BEGIN:VTIMEZONE
TZID:Europe/Berlin
TZURL:http://tzurl.org/zoneinfo-outlook/Europe/Berlin
X-LIC-LOCATION:Europe/Berlin
END:VTIMEZONE
BEGIN:VEVENT
UID:69e5fd4a8d917
LOCATION:Stadtplatz , 83278 Traunstein
SUMMARY;ENCODING=QUOTED-PRINTABLE:Haindling am Stadtplatz Traunstein
DESCRIPTION;ENCODING=QUOTED-PRINTABLE:Bayern2 Sommerkonzert | Freie Platzwahl! Bestuhlt! Karten nur online=0D=0Aunter www.woweba.de erhältlich.
URL;VALUE=URI:https://irs18whl.infomax.online/standard/e-haindling-am-stadtplatz-traunstein?eventDateId=2023792&widgetToken=5oeXeoKIovU.&
CLASS:PUBLIC
DTSTART:20260712T190000
DTSTAMP:20260420T121746
END:VEVENT
END:VCALENDAR