BEGIN:VCALENDAR
VERSION:2.0
PRODID:http://www.infomax-online.de/imxeventmanager/
METHOD:PUBLISH
BEGIN:VTIMEZONE
TZID:Europe/Berlin
TZURL:http://tzurl.org/zoneinfo-outlook/Europe/Berlin
X-LIC-LOCATION:Europe/Berlin
END:VTIMEZONE
BEGIN:VEVENT
UID:69ea624f85938
LOCATION:Simon-Spannbrucker-Strasse , 83413 Fridolfing
SUMMARY;ENCODING=QUOTED-PRINTABLE:Vortrag: Wenn Beziehungen zerbrechen - Trauer, Trennung und Neubeginn=0D=0Abei Kindern und Jugendlichen
DESCRIPTION;ENCODING=QUOTED-PRINTABLE:für Eltern und alle Interessierten
URL;VALUE=URI:https://irs18whl.infomax.online/standard/e-vortrag-wenn-beziehungen-zerbrechen-trauer-trennung-und-neubeginn-bei-kindern-und-jugendli?eventDateId=2022864&widgetToken=5oeXeoKIovU.&
CLASS:PUBLIC
DTSTART:20260423T190000
DTSTAMP:20260423T201751
END:VEVENT
END:VCALENDAR