BEGIN:VCALENDAR
VERSION:2.0
PRODID:http://www.infomax-online.de/imxeventmanager/
METHOD:PUBLISH
BEGIN:VTIMEZONE
TZID:Europe/Berlin
TZURL:http://tzurl.org/zoneinfo-outlook/Europe/Berlin
X-LIC-LOCATION:Europe/Berlin
END:VTIMEZONE
BEGIN:VEVENT
UID:69ed7b69162cf
LOCATION:Seestraße 7F, 83367 Petting
SUMMARY;ENCODING=QUOTED-PRINTABLE:Spritzenhausparty Petting
DESCRIPTION;ENCODING=QUOTED-PRINTABLE:Die freiwillige Feuerwehr Petting lädt herzlichst ein.
URL;VALUE=URI:https://irs18whl.infomax.online/standard/e-spritzenhausparty-petting?eventDateId=2022628&widgetToken=5oeXeoKIovU.&
CLASS:PUBLIC
DTSTART:20260509T200000
DTSTAMP:20260426T044145
END:VEVENT
END:VCALENDAR