BEGIN:VCALENDAR
VERSION:2.0
PRODID:http://www.infomax-online.de/imxeventmanager/
METHOD:PUBLISH
BEGIN:VTIMEZONE
TZID:Europe/Berlin
TZURL:http://tzurl.org/zoneinfo-outlook/Europe/Berlin
X-LIC-LOCATION:Europe/Berlin
END:VTIMEZONE
BEGIN:VEVENT
UID:69ea7d5dc7cd1
LOCATION:Klosterweg 1, 83370 Seeon
SUMMARY;ENCODING=QUOTED-PRINTABLE:AUSGEBUCHT! Handlettering - Gestalten mit schönen Buchstaben
DESCRIPTION;ENCODING=QUOTED-PRINTABLE:Workshop für Jugendliche und Erwachsene ermöglicht den Einstieg in=0D=0Adie Welt des Handletterings. Anmeldung per E-Mail an:=0D=0Akultur@kloster-seeon.de
URL;VALUE=URI:https://irs18whl.infomax.online/standard/e-handlettering-workshop-april?eventDateId=2022264&widgetToken=5oeXeoKIovU.&
CLASS:PUBLIC
DTSTART:20260424T143000
DTSTAMP:20260423T221317
END:VEVENT
END:VCALENDAR