BEGIN:VCALENDAR
VERSION:2.0
PRODID:http://www.infomax-online.de/imxeventmanager/
METHOD:PUBLISH
BEGIN:VTIMEZONE
TZID:Europe/Berlin
TZURL:http://tzurl.org/zoneinfo-outlook/Europe/Berlin
X-LIC-LOCATION:Europe/Berlin
END:VTIMEZONE
BEGIN:VEVENT
UID:69ed7b95ec65f
LOCATION:Bahnhofstr. 32, 83236 Übersee
SUMMARY;ENCODING=QUOTED-PRINTABLE:Men Of The Yeah
DESCRIPTION;ENCODING=QUOTED-PRINTABLE:Urban Reggae
URL;VALUE=URI:https://irs18whl.infomax.online/standard/e-men-of-the-yeah?eventDateId=2020893&widgetToken=5oeXeoKIovU.&
CLASS:PUBLIC
DTSTART:20260509T210000
DTSTAMP:20260426T044229
END:VEVENT
END:VCALENDAR