BEGIN:VCALENDAR
VERSION:2.0
PRODID:http://www.infomax-online.de/imxeventmanager/
METHOD:PUBLISH
BEGIN:VTIMEZONE
TZID:Europe/Berlin
TZURL:http://tzurl.org/zoneinfo-outlook/Europe/Berlin
X-LIC-LOCATION:Europe/Berlin
END:VTIMEZONE
BEGIN:VEVENT
UID:69ed7b6415f10
LOCATION:Rathausplatz 1, 83250 Marquartstein
SUMMARY;ENCODING=QUOTED-PRINTABLE:Briefmarken-Tauschtag
DESCRIPTION;ENCODING=QUOTED-PRINTABLE:Tauschtage im Rathaus Marquartstein, Eingang zur Bücherei im Keller.=0D=0AJeweils am 4. Samstag von 9-12 Uhr.
URL;VALUE=URI:https://irs18whl.infomax.online/standard/e-briefmarken-tauschtage?eventDateId=2019871&widgetToken=5oeXeoKIovU.&
CLASS:PUBLIC
DTSTART:20260425T090000
DTSTAMP:20260426T044140
END:VEVENT
END:VCALENDAR