BEGIN:VCALENDAR
VERSION:2.0
PRODID:http://www.infomax-online.de/imxeventmanager/
METHOD:PUBLISH
BEGIN:VTIMEZONE
TZID:Europe/Berlin
TZURL:http://tzurl.org/zoneinfo-outlook/Europe/Berlin
X-LIC-LOCATION:Europe/Berlin
END:VTIMEZONE
BEGIN:VEVENT
UID:69ed921b494c9
LOCATION:Salzburger Straße 32, 83329 Waging am See
SUMMARY;ENCODING=QUOTED-PRINTABLE:Pflanzentauschmarkt
DESCRIPTION;ENCODING=QUOTED-PRINTABLE:Pflanzentauschmarkt und Verkauf vor der Tourist-Info Waging.
URL;VALUE=URI:https://irs18whl.infomax.online/standard/e-pflanzentauschmarkt-1-1?eventDateId=2017593&widgetToken=5oeXeoKIovU.&
CLASS:PUBLIC
DTSTART:20260425T080000
DTSTAMP:20260426T061835
END:VEVENT
END:VCALENDAR