BEGIN:VCALENDAR
VERSION:2.0
PRODID:http://www.infomax-online.de/imxeventmanager/
METHOD:PUBLISH
BEGIN:VTIMEZONE
TZID:Europe/Berlin
TZURL:http://tzurl.org/zoneinfo-outlook/Europe/Berlin
X-LIC-LOCATION:Europe/Berlin
END:VTIMEZONE
BEGIN:VEVENT
UID:69eaa46510248
LOCATION:Hauptstraße 61, 83246 Unterwössen
SUMMARY;ENCODING=QUOTED-PRINTABLE:Spieleabend
DESCRIPTION;ENCODING=QUOTED-PRINTABLE:Spielbegeistert? Dann ist das die richtige Veranstaltung für Dich!=0D=0AUnsere Brettspiele, Karten- (auch Schafkopfen) und Würfelspiele laden=0D=0ADich ein, in geselliger Runde Gleichgesinnte kennenzulernen und Spaß=0D=0Amiteinader zu haben.
URL;VALUE=URI:https://irs18whl.infomax.online/standard/e-spieleabend?eventDateId=2016728&widgetToken=5oeXeoKIovU.&
CLASS:PUBLIC
DTSTART:20260428T183000
DTSTAMP:20260424T005949
END:VEVENT
END:VCALENDAR