BEGIN:VCALENDAR
VERSION:2.0
PRODID:http://www.infomax-online.de/imxeventmanager/
METHOD:PUBLISH
BEGIN:VTIMEZONE
TZID:Europe/Berlin
TZURL:http://tzurl.org/zoneinfo-outlook/Europe/Berlin
X-LIC-LOCATION:Europe/Berlin
END:VTIMEZONE
BEGIN:VEVENT
UID:69ea91ce7c8e7
LOCATION:Gewerbestraße 2, 83236 Übersee
SUMMARY;ENCODING=QUOTED-PRINTABLE:Yoga für Kindergarten-Kinder
DESCRIPTION;ENCODING=QUOTED-PRINTABLE:Kinderyoga für Kindergarten-Kinder Info & Anmeldung unter 0171=0D=0A1776952
URL;VALUE=URI:https://irs18whl.infomax.online/standard/e-yoga-gaensebluemchen?eventDateId=2012312&widgetToken=5oeXeoKIovU.&
CLASS:PUBLIC
DTSTART:20260423T160000
DTSTAMP:20260423T234030
END:VEVENT
END:VCALENDAR