BEGIN:VCALENDAR
VERSION:2.0
PRODID:http://www.infomax-online.de/imxeventmanager/
METHOD:PUBLISH
BEGIN:VTIMEZONE
TZID:Europe/Berlin
TZURL:http://tzurl.org/zoneinfo-outlook/Europe/Berlin
X-LIC-LOCATION:Europe/Berlin
END:VTIMEZONE
BEGIN:VEVENT
UID:69e6171b6c791
LOCATION:Lanzinger Str 12, 83250 Marquartstein
SUMMARY;ENCODING=QUOTED-PRINTABLE:Jahreskonzert der Musikkapelle Marquartstein
DESCRIPTION;ENCODING=QUOTED-PRINTABLE:Bekannte Melodien und Werke aus verschiedenen Epochen der=0D=0AMusikgeschichte in einer ausgewogenen Mischung aus konzertanten,=0D=0Atraditionellen und modernen Arrangements. Das Jahreskonzert wird von=0D=0Ader Bläserklasse Marquartstein und der Gemeinschaftsjugendkapelle=0D=0AGrassau, Marquartstein und Reit im Winkl eingeleitet. ). Vorverkauf:=0D=0ABuchhandlung Mengedoht in Marquartstein und online unter=0D=0Aticketscharf.de (ab März)
URL;VALUE=URI:https://irs18whl.infomax.online/standard/e-jahreskonzert-der-musikkapelle-marquartstein-2?eventDateId=1999227&widgetToken=5oeXeoKIovU.&
CLASS:PUBLIC
DTSTART:20260425T190000
DTSTAMP:20260420T140755
END:VEVENT
END:VCALENDAR