BEGIN:VCALENDAR
VERSION:2.0
PRODID:http://www.infomax-online.de/imxeventmanager/
METHOD:PUBLISH
BEGIN:VTIMEZONE
TZID:Europe/Berlin
TZURL:http://tzurl.org/zoneinfo-outlook/Europe/Berlin
X-LIC-LOCATION:Europe/Berlin
END:VTIMEZONE
BEGIN:VEVENT
UID:69ed60cfeb10b
LOCATION:Bahnhofstr. 32, 83236 Übersee
SUMMARY;ENCODING=QUOTED-PRINTABLE:SEEcrets: RUHMER
DESCRIPTION;ENCODING=QUOTED-PRINTABLE:Unser Format für Schüler*innen, Student*innen und Azubis Wir wollen=0D=0Ajungen Menschen den Zugang zu Konzerten und kulturellen Erlebnissen so=0D=0Aeinfach wie möglich machen. Deshalb haben wir ein neues Format ins=0D=0ALeben gerufen: SEEcrets! SEEcrets – das bedeutet spontane=0D=0AHutkonzerte mit grandiosen Bands, günstige Drinks und eine offene=0D=0AAtmosphäre. Alle sollen sich ein Bier leisten können und noch etwas=0D=0Ain den Hut werfen – denn jede*r soll großartige Live-Musik erleben=0D=0Akönnen, ohne dass der Geldbeutel leidet.
URL;VALUE=URI:https://irs18whl.infomax.online/standard/e-seecrets-ruhmer?eventDateId=1999181&widgetToken=5oeXeoKIovU.&
CLASS:PUBLIC
DTSTART:20260428T210000
DTSTAMP:20260426T024815
END:VEVENT
END:VCALENDAR