BEGIN:VCALENDAR
VERSION:2.0
PRODID:http://www.infomax-online.de/imxeventmanager/
METHOD:PUBLISH
BEGIN:VTIMEZONE
TZID:Europe/Berlin
TZURL:http://tzurl.org/zoneinfo-outlook/Europe/Berlin
X-LIC-LOCATION:Europe/Berlin
END:VTIMEZONE
BEGIN:VEVENT
UID:69ed46bc1fd51
LOCATION:Hinterm Bichl 2, 83224 Grassau
SUMMARY;ENCODING=QUOTED-PRINTABLE:Trio Étoiles - Reimagined
DESCRIPTION;ENCODING=QUOTED-PRINTABLE:Musikalische Sternenreise mit Vadym Palii, Sarah Lilian Kober, Vanja=0D=0ASedlak.
URL;VALUE=URI:https://irs18whl.infomax.online/standard/e-trio-etoiles-1?eventDateId=1989640&widgetToken=5oeXeoKIovU.&
CLASS:PUBLIC
DTSTART:20260425T193000
DTSTAMP:20260426T005700
END:VEVENT
END:VCALENDAR