BEGIN:VCALENDAR
VERSION:2.0
PRODID:http://www.infomax-online.de/imxeventmanager/
METHOD:PUBLISH
BEGIN:VTIMEZONE
TZID:Europe/Berlin
TZURL:http://tzurl.org/zoneinfo-outlook/Europe/Berlin
X-LIC-LOCATION:Europe/Berlin
END:VTIMEZONE
BEGIN:VEVENT
UID:69ed61394b652
LOCATION:Hauptstraße 32, 83339 Chieming
SUMMARY;ENCODING=QUOTED-PRINTABLE:Mädchenflohmarkt
DESCRIPTION;ENCODING=QUOTED-PRINTABLE:Wir laden alle Mädels und Frauen herzlich zu unserem 6.=0D=0AMädchenflohmarkt im Chiemseer Wirtshaus ein! Hier könnt ihr in=0D=0Agemütlicher Atmosphäre stöbern, shoppen und Schnäppchen machen.=0D=0AAuf unserem Flohmarkt werden gebrauchte und ungetragene=0D=0AKleidungsstücke, Schuhe und Accessoires angeboten. Zusätzlich sorgt=0D=0Aein DJ für gute Stimmung, leckere Drinks an der Bar runden das=0D=0AErlebnis ab.
URL;VALUE=URI:https://irs18whl.infomax.online/standard/e-maedchenflohmarkt-november-2025?eventDateId=1982398&widgetToken=5oeXeoKIovU.&
CLASS:PUBLIC
DTSTART:20260426T140000
DTSTAMP:20260426T025001
END:VEVENT
END:VCALENDAR