BEGIN:VCALENDAR
VERSION:2.0
PRODID:http://www.infomax-online.de/imxeventmanager/
METHOD:PUBLISH
BEGIN:VTIMEZONE
TZID:Europe/Berlin
TZURL:http://tzurl.org/zoneinfo-outlook/Europe/Berlin
X-LIC-LOCATION:Europe/Berlin
END:VTIMEZONE
BEGIN:VEVENT
UID:69e78009e7a40
LOCATION:Schmerbach 6, 84529 Tittmoning
SUMMARY;ENCODING=QUOTED-PRINTABLE:Wagen für den Georgi Ritt schmücken
DESCRIPTION;ENCODING=QUOTED-PRINTABLE:Hilf uns den Wagen für den Georgi Ritt zu schmücken
URL;VALUE=URI:https://irs18whl.infomax.online/standard/e-wagen-fuer-den-georgi-ritt-schmuecken?eventDateId=1981152&widgetToken=5oeXeoKIovU.&
CLASS:PUBLIC
DTSTART:20260424T130000
DTSTAMP:20260421T154753
END:VEVENT
END:VCALENDAR