BEGIN:VCALENDAR
VERSION:2.0
PRODID:http://www.infomax-online.de/imxeventmanager/
METHOD:PUBLISH
BEGIN:VTIMEZONE
TZID:Europe/Berlin
TZURL:http://tzurl.org/zoneinfo-outlook/Europe/Berlin
X-LIC-LOCATION:Europe/Berlin
END:VTIMEZONE
BEGIN:VEVENT
UID:69ed92c0d97bf
LOCATION:Schwimmbadstr. 10, 83334 Inzell
SUMMARY;ENCODING=QUOTED-PRINTABLE:Boules-Turnier
DESCRIPTION;ENCODING=QUOTED-PRINTABLE:Der Wanderpokal "Inzell durch die Jahreszeiten"
URL;VALUE=URI:https://irs18whl.infomax.online/standard/e-boules-turnier?eventDateId=1967055&widgetToken=5oeXeoKIovU.&
CLASS:PUBLIC
DTSTART:20260426T130000
DTSTAMP:20260426T062120
END:VEVENT
END:VCALENDAR